BEGIN:VCALENDAR
VERSION:2.0
PRODID:-//circus hopplahopp - ECPv6.15.20//NONSGML v1.0//EN
CALSCALE:GREGORIAN
METHOD:PUBLISH
X-WR-CALNAME:circus hopplahopp
X-ORIGINAL-URL:https://circus-hopplahopp.com
X-WR-CALDESC:Veranstaltungen für circus hopplahopp
REFRESH-INTERVAL;VALUE=DURATION:PT1H
X-Robots-Tag:noindex
X-PUBLISHED-TTL:PT1H
BEGIN:VTIMEZONE
TZID:Europe/Berlin
BEGIN:DAYLIGHT
TZOFFSETFROM:+0100
TZOFFSETTO:+0200
TZNAME:CEST
DTSTART:20220327T010000
END:DAYLIGHT
BEGIN:STANDARD
TZOFFSETFROM:+0200
TZOFFSETTO:+0100
TZNAME:CET
DTSTART:20221030T010000
END:STANDARD
BEGIN:DAYLIGHT
TZOFFSETFROM:+0100
TZOFFSETTO:+0200
TZNAME:CEST
DTSTART:20230326T010000
END:DAYLIGHT
BEGIN:STANDARD
TZOFFSETFROM:+0200
TZOFFSETTO:+0100
TZNAME:CET
DTSTART:20231029T010000
END:STANDARD
BEGIN:DAYLIGHT
TZOFFSETFROM:+0100
TZOFFSETTO:+0200
TZNAME:CEST
DTSTART:20240331T010000
END:DAYLIGHT
BEGIN:STANDARD
TZOFFSETFROM:+0200
TZOFFSETTO:+0100
TZNAME:CET
DTSTART:20241027T010000
END:STANDARD
BEGIN:DAYLIGHT
TZOFFSETFROM:+0100
TZOFFSETTO:+0200
TZNAME:CEST
DTSTART:20250330T010000
END:DAYLIGHT
BEGIN:STANDARD
TZOFFSETFROM:+0200
TZOFFSETTO:+0100
TZNAME:CET
DTSTART:20251026T010000
END:STANDARD
END:VTIMEZONE
BEGIN:VEVENT
DTSTART;VALUE=DATE:20230823
DTEND;VALUE=DATE:20231014
DTSTAMP:20260422T135109
CREATED:20230806T105912Z
LAST-MODIFIED:20230906T181129Z
UID:1300-1692788400-1697194799@circus-hopplahopp.com
SUMMARY:Circus Hopplahopp ist in Lichtenrade
DESCRIPTION:„CIRCUS PUR – IM TEMPO DER NEUZEIT“				\n				\n				\n				\n									Dienstag -Samstag 16:00 Uhr Sonntag 15:00 UhrMontag ist Ruhetag (Ostermontag ist Vorstellung) Mittwoch den 22.04.2026 nur um 15:00 Uhr OSTER-SPEZIAL 05. + 06. APRIL: Kinder 5€\, Erwachsene 10€ Dienstag [HappyDay]:10€ proPerson\, ob groß\, ob klein. MI + DO [Familientag]: Erwachsene zahlen den gültigen Kinderpreis* 								\n				\n				\n				\n									Wir freuen uns auf Sie! Erleben Sie unser neues Program! Hier finden Sie Ermäßigungskarten >>>
URL:https://circus-hopplahopp.com/termin/circus-hopplahopp-ist-in-lichtenrade/
LOCATION:Lichtenrade\, Groß-Ziethener Straße 107\, Lichtenrade\, Lichtenrade\, 12309
CATEGORIES:circus
ATTACH;FMTTYPE=image/png:https://circus-hopplahopp.com/wp-content/uploads/circus_hopplahop_2023_august_lichtenrade_ermaessigung_karte.png
END:VEVENT
BEGIN:VEVENT
DTSTART;VALUE=DATE:20231019
DTEND;VALUE=DATE:20231118
DTSTAMP:20260422T135109
CREATED:20230906T180805Z
LAST-MODIFIED:20230906T181024Z
UID:1331-1697713200-1700218799@circus-hopplahopp.com
SUMMARY:Circus Hopplahopp ist in Reinickendorf
DESCRIPTION:„CIRCUS PUR – IM TEMPO DER NEUZEIT“				\n				\n				\n				\n									Dienstag -Samstag 16:00 Uhr Sonntag 15:00 UhrMontag ist Ruhetag (Ostermontag ist Vorstellung) Mittwoch den 22.04.2026 nur um 15:00 Uhr OSTER-SPEZIAL 05. + 06. APRIL: Kinder 5€\, Erwachsene 10€ Dienstag [HappyDay]:10€ proPerson\, ob groß\, ob klein. MI + DO [Familientag]: Erwachsene zahlen den gültigen Kinderpreis* 								\n				\n				\n				\n									Wir freuen uns auf Sie! Erleben Sie unser neues Program! Hier finden Sie Ermäßigungskarten >>>
URL:https://circus-hopplahopp.com/termin/circus-hopplahopp-ist-in-reinickendorf-oktober-2023/
LOCATION:Reinickendorf\, Kurt-Schuhmacher-Damm / Neben Mc Donalds\, Reinickendorf\, Berlin\, 13405\, Deutschland
CATEGORIES:circus
ATTACH;FMTTYPE=image/png:https://circus-hopplahopp.com/wp-content/uploads/circus_hopplahopp_kurtschuhmacherdamm_10_2023.png
END:VEVENT
BEGIN:VEVENT
DTSTART;VALUE=DATE:20240830
DTEND;VALUE=DATE:20241012
DTSTAMP:20260422T135109
CREATED:20240814T201759Z
LAST-MODIFIED:20240814T203916Z
UID:1573-1725015600-1728644399@circus-hopplahopp.com
SUMMARY:Circus Hopplahopp ist in Lichtenrade August 2024
DESCRIPTION:„CIRCUS PUR – IM TEMPO DER NEUZEIT“				\n				\n				\n				\n									Dienstag -Samstag 16:00 Uhr Sonntag 15:00 UhrMontag ist Ruhetag (Ostermontag ist Vorstellung) Mittwoch den 22.04.2026 nur um 15:00 Uhr OSTER-SPEZIAL 05. + 06. APRIL: Kinder 5€\, Erwachsene 10€ Dienstag [HappyDay]:10€ proPerson\, ob groß\, ob klein. MI + DO [Familientag]: Erwachsene zahlen den gültigen Kinderpreis* 								\n				\n				\n				\n									Wir freuen uns auf Sie! Erleben Sie unser neues Program! Hier finden Sie Ermäßigungskarten >>>
URL:https://circus-hopplahopp.com/termin/circus-hopplahopp-ist-in-lichtenrade-august-2024/
LOCATION:Lichtenrade\, Groß-Ziethener Straße 107\, Lichtenrade\, Lichtenrade\, 12309
CATEGORIES:circus
ATTACH;FMTTYPE=image/png:https://circus-hopplahopp.com/wp-content/uploads/circus_hopplahop_2023_august_lichtenrade_ermaessigung_karte.png
END:VEVENT
END:VCALENDAR